BEGIN:VCALENDAR
VERSION:2.0
PRODID:icalendar-ruby
CALSCALE:GREGORIAN
METHOD:PUBLISH
BEGIN:VEVENT
DTSTAMP:20260422T221737Z
UID:60-952634@cornerstonemcminnville.org
DTSTART:20260614T133000Z
DTEND:20260615T024500Z
CLASS:PUBLIC
CREATED:20260422T155052
DESCRIPTION:Start Your Sunday With Us\nJoin us every Sunday for a time of f
 ellowship and growth at Cornerstone Baptist Church.\nDonuts Fellowship –
  8:30 AMCome early\, grab a donut and coffee\, and enjoy time connecting w
 ith others.\nSunday School – 9:00 AMA meaningful time to dive into God
 ’s Word and build strong foundations in Christ. \nClasses for all ages 
 and phase of life.\nFaith grows best in community. Come fellowship\, learn
 \, and start your Sunday centered on what truly matters. We’d love to se
 e you there!
LAST-MODIFIED:20260422T155052
LOCATION:49 Golf Club Rd\, McMinnville
SUMMARY:Donuts Fellowship
URL;VALUE=URI:https://cornerstonemcminnville.org/events/donuts-fellowship/2
 026-06-14
ATTACH;FILENAME=donn.png;FMTTYPE=image/png:https://dq5pwpg1q8ru0.cloudfront
 .net/2026/03/05/21/27/54/9241246d-a3d1-42f1-b07c-29faae0d0ec4/donn.png
END:VEVENT
END:VCALENDAR
