BEGIN:VCALENDAR
VERSION:2.0
PRODID:icalendar-ruby
CALSCALE:GREGORIAN
METHOD:PUBLISH
BEGIN:VEVENT
DTSTAMP:20260422T112441Z
UID:14-948679@cornerstonemcminnville.org
DTSTART:20260322T230000Z
DTEND:20260323T000000Z
CLASS:PUBLIC
CREATED:20260421T200045
DESCRIPTION:
LAST-MODIFIED:20260421T200045
LOCATION:49 Golf Club Rd\, McMinnville
SUMMARY:Evening Service
URL;VALUE=URI:https://cornerstonemcminnville.org/events/evening-service/202
 6-03-22
END:VEVENT
END:VCALENDAR
