BEGIN:VCALENDAR
VERSION:2.0
PRODID:icalendar-ruby
CALSCALE:GREGORIAN
METHOD:PUBLISH
BEGIN:VEVENT
DTSTAMP:20260422T125258Z
UID:14-949550@cornerstonemcminnville.org
DTSTART:20260329T230000Z
DTEND:20260330T000000Z
CLASS:PUBLIC
CREATED:20260422T070538
DESCRIPTION:
LAST-MODIFIED:20260422T070538
LOCATION:49 Golf Club Rd\, McMinnville
SUMMARY:Evening Service
URL;VALUE=URI:https://cornerstonemcminnville.org/events/evening-service/202
 6-03-29
END:VEVENT
END:VCALENDAR
