BEGIN:VCALENDAR
VERSION:2.0
PRODID:icalendar-ruby
CALSCALE:GREGORIAN
METHOD:PUBLISH
BEGIN:VEVENT
DTSTAMP:20260422T164312Z
UID:14-950423@cornerstonemcminnville.org
DTSTART:20260517T230000Z
DTEND:20260518T000000Z
CLASS:PUBLIC
CREATED:20260422T100034
DESCRIPTION:
LAST-MODIFIED:20260422T100034
LOCATION:49 Golf Club Rd\, McMinnville
SUMMARY:Evening Service
URL;VALUE=URI:https://cornerstonemcminnville.org/events/evening-service/202
 6-05-17
END:VEVENT
END:VCALENDAR
