BEGIN:VCALENDAR
VERSION:2.0
PRODID:icalendar-ruby
CALSCALE:GREGORIAN
METHOD:PUBLISH
BEGIN:VEVENT
DTSTAMP:20260422T192428Z
UID:14-951295@cornerstonemcminnville.org
DTSTART:20260531T230000Z
DTEND:20260601T000000Z
CLASS:PUBLIC
CREATED:20260422T125544
DESCRIPTION:
LAST-MODIFIED:20260422T125544
LOCATION:49 Golf Club Rd\, McMinnville
SUMMARY:Evening Service
URL;VALUE=URI:https://cornerstonemcminnville.org/events/evening-service/202
 6-05-31
END:VEVENT
END:VCALENDAR
