BEGIN:VCALENDAR
VERSION:2.0
PRODID:icalendar-ruby
CALSCALE:GREGORIAN
METHOD:PUBLISH
BEGIN:VEVENT
DTSTAMP:20260422T215805Z
UID:14-952167@cornerstonemcminnville.org
DTSTART:20260628T230000Z
DTEND:20260629T000000Z
CLASS:PUBLIC
CREATED:20260422T155051
DESCRIPTION:
LAST-MODIFIED:20260422T155051
LOCATION:49 Golf Club Rd\, McMinnville
SUMMARY:Evening Service
URL;VALUE=URI:https://cornerstonemcminnville.org/events/evening-service/202
 6-06-28
END:VEVENT
END:VCALENDAR
