BEGIN:VCALENDAR
VERSION:2.0
PRODID:icalendar-ruby
CALSCALE:GREGORIAN
METHOD:PUBLISH
BEGIN:VEVENT
DTSTAMP:20260422T232717Z
UID:14-952168@cornerstonemcminnville.org
DTSTART:20260712T230000Z
DTEND:20260713T000000Z
CLASS:PUBLIC
CREATED:20260422T155051
DESCRIPTION:
LAST-MODIFIED:20260422T155051
LOCATION:49 Golf Club Rd\, McMinnville
SUMMARY:Evening Service
URL;VALUE=URI:https://cornerstonemcminnville.org/events/evening-service/202
 6-07-12
END:VEVENT
END:VCALENDAR
