BEGIN:VCALENDAR
VERSION:2.0
PRODID:icalendar-ruby
CALSCALE:GREGORIAN
METHOD:PUBLISH
BEGIN:VEVENT
DTSTAMP:20260423T010447Z
UID:14-953039@cornerstonemcminnville.org
DTSTART:20260719T230000Z
DTEND:20260720T000000Z
CLASS:PUBLIC
CREATED:20260422T184254
DESCRIPTION:
LAST-MODIFIED:20260422T184254
LOCATION:49 Golf Club Rd\, McMinnville
SUMMARY:Evening Service
URL;VALUE=URI:https://cornerstonemcminnville.org/events/evening-service/202
 6-07-19
END:VEVENT
END:VCALENDAR
