BEGIN:VCALENDAR
VERSION:2.0
PRODID:icalendar-ruby
CALSCALE:GREGORIAN
METHOD:PUBLISH
BEGIN:VEVENT
DTSTAMP:20260423T022125Z
UID:14-953040@cornerstonemcminnville.org
DTSTART:20260726T230000Z
DTEND:20260727T000000Z
CLASS:PUBLIC
CREATED:20260422T184254
DESCRIPTION:
LAST-MODIFIED:20260422T184254
LOCATION:49 Golf Club Rd\, McMinnville
SUMMARY:Evening Service
URL;VALUE=URI:https://cornerstonemcminnville.org/events/evening-service/202
 6-07-26
END:VEVENT
END:VCALENDAR
