BEGIN:VCALENDAR
VERSION:2.0
PRODID:icalendar-ruby
CALSCALE:GREGORIAN
METHOD:PUBLISH
BEGIN:VEVENT
DTSTAMP:20260423T045305Z
UID:14-953913@cornerstonemcminnville.org
DTSTART:20260816T230000Z
DTEND:20260817T000000Z
CLASS:PUBLIC
CREATED:20260422T213631
DESCRIPTION:
LAST-MODIFIED:20260422T213631
LOCATION:49 Golf Club Rd\, McMinnville
SUMMARY:Evening Service
URL;VALUE=URI:https://cornerstonemcminnville.org/events/evening-service/202
 6-08-16
END:VEVENT
END:VCALENDAR
