BEGIN:VCALENDAR
VERSION:2.0
PRODID:icalendar-ruby
CALSCALE:GREGORIAN
METHOD:PUBLISH
BEGIN:VEVENT
DTSTAMP:20260423T102748Z
UID:14-953917@cornerstonemcminnville.org
DTSTART:20260913T230000Z
DTEND:20260914T000000Z
CLASS:PUBLIC
CREATED:20260422T213631
DESCRIPTION:
LAST-MODIFIED:20260422T213631
LOCATION:49 Golf Club Rd\, McMinnville
SUMMARY:Evening Service
URL;VALUE=URI:https://cornerstonemcminnville.org/events/evening-service/202
 6-09-13
END:VEVENT
END:VCALENDAR
