BEGIN:VCALENDAR
VERSION:2.0
PRODID:icalendar-ruby
CALSCALE:GREGORIAN
METHOD:PUBLISH
BEGIN:VEVENT
DTSTAMP:20260423T141458Z
UID:14-954795@cornerstonemcminnville.org
DTSTART:20261018T230000Z
DTEND:20261019T000000Z
CLASS:PUBLIC
CREATED:20260423T070648
DESCRIPTION:
LAST-MODIFIED:20260423T070648
LOCATION:49 Golf Club Rd\, McMinnville
SUMMARY:Evening Service
URL;VALUE=URI:https://cornerstonemcminnville.org/events/evening-service/202
 6-10-18
END:VEVENT
END:VCALENDAR
