BEGIN:VCALENDAR
VERSION:2.0
PRODID:icalendar-ruby
CALSCALE:GREGORIAN
METHOD:PUBLISH
BEGIN:VEVENT
DTSTAMP:20260423T164032Z
UID:14-955671@cornerstonemcminnville.org
DTSTART:20261102T000000Z
DTEND:20261102T010000Z
CLASS:PUBLIC
CREATED:20260423T095938
DESCRIPTION:
LAST-MODIFIED:20260423T095938
LOCATION:49 Golf Club Rd\, McMinnville
SUMMARY:Evening Service
URL;VALUE=URI:https://cornerstonemcminnville.org/events/evening-service/202
 6-11-01
END:VEVENT
END:VCALENDAR
