BEGIN:VCALENDAR
VERSION:2.0
PRODID:icalendar-ruby
CALSCALE:GREGORIAN
METHOD:PUBLISH
BEGIN:VEVENT
DTSTAMP:20260423T180550Z
UID:14-956546@cornerstonemcminnville.org
DTSTART:20261116T000000Z
DTEND:20261116T010000Z
CLASS:PUBLIC
CREATED:20260423T125517
DESCRIPTION:
LAST-MODIFIED:20260423T125517
LOCATION:49 Golf Club Rd\, McMinnville
SUMMARY:Evening Service
URL;VALUE=URI:https://cornerstonemcminnville.org/events/evening-service/202
 6-11-15
END:VEVENT
END:VCALENDAR
