BEGIN:VCALENDAR
VERSION:2.0
PRODID:icalendar-ruby
CALSCALE:GREGORIAN
METHOD:PUBLISH
BEGIN:VEVENT
DTSTAMP:20260423T193145Z
UID:14-956547@cornerstonemcminnville.org
DTSTART:20261123T000000Z
DTEND:20261123T010000Z
CLASS:PUBLIC
CREATED:20260423T125517
DESCRIPTION:
LAST-MODIFIED:20260423T125517
LOCATION:49 Golf Club Rd\, McMinnville
SUMMARY:Evening Service
URL;VALUE=URI:https://cornerstonemcminnville.org/events/evening-service/202
 6-11-22
END:VEVENT
END:VCALENDAR
