BEGIN:VCALENDAR
VERSION:2.0
PRODID:icalendar-ruby
CALSCALE:GREGORIAN
METHOD:PUBLISH
BEGIN:VEVENT
DTSTAMP:20260423T223944Z
UID:14-957424@cornerstonemcminnville.org
DTSTART:20261221T000000Z
DTEND:20261221T010000Z
CLASS:PUBLIC
CREATED:20260423T155101
DESCRIPTION:
LAST-MODIFIED:20260423T155101
LOCATION:49 Golf Club Rd\, McMinnville
SUMMARY:Evening Service
URL;VALUE=URI:https://cornerstonemcminnville.org/events/evening-service/202
 6-12-20
END:VEVENT
END:VCALENDAR
