BEGIN:VCALENDAR
VERSION:2.0
PRODID:icalendar-ruby
CALSCALE:GREGORIAN
METHOD:PUBLISH
BEGIN:VEVENT
DTSTAMP:20260423T234816Z
UID:14-958299@cornerstonemcminnville.org
DTSTART:20261228T000000Z
DTEND:20261228T010000Z
CLASS:PUBLIC
CREATED:20260423T184436
DESCRIPTION:
LAST-MODIFIED:20260423T184436
LOCATION:49 Golf Club Rd\, McMinnville
SUMMARY:Evening Service
URL;VALUE=URI:https://cornerstonemcminnville.org/events/evening-service/202
 6-12-27
END:VEVENT
END:VCALENDAR
