BEGIN:VCALENDAR
VERSION:2.0
PRODID:icalendar-ruby
CALSCALE:GREGORIAN
METHOD:PUBLISH
BEGIN:VEVENT
DTSTAMP:20260423T114126Z
UID:32-954301@cornerstonemcminnville.org
DTSTART:20260902T223000Z
DTEND:20260903T000000Z
CLASS:PUBLIC
CREATED:20260422T213633
DESCRIPTION:Come join us every wednesday night for a time of fun and learni
 ng the Word of God.\nFor 4yo to 12th graders\, we provide dinner and trans
 portation.\nSend us a messsage if you need a ride.
LAST-MODIFIED:20260422T213633
LOCATION:
SUMMARY:Kids & Youth Night
URL;VALUE=URI:https://cornerstonemcminnville.org/events/kids-youth-night--3
 2/2026-09-02
ATTACH;FILENAME=Fun International Youth Day Instagram Story.png;FMTTYPE=ima
 ge/png:https://dq5pwpg1q8ru0.cloudfront.net/2024/07/09/05/43/49/1edfe0fa-2
 810-43de-9479-c757694a0c79/Fun%20International%20Youth%20Day%20Instagram%2
 0Story.png
END:VEVENT
END:VCALENDAR
