BEGIN:VCALENDAR
VERSION:2.0
PRODID:icalendar-ruby
CALSCALE:GREGORIAN
METHOD:PUBLISH
BEGIN:VEVENT
DTSTAMP:20260423T104613Z
UID:27-954188@cornerstonemcminnville.org
DTSTART:20260817T223000Z
DTEND:20260818T000000Z
CLASS:PUBLIC
CREATED:20260422T213632
DESCRIPTION:Overcomers Awareness Group is a group of men and women who are 
 trying to overcome the gruesomeness of addiction. We are a group of people
  who fight to get the next addict off the streets and into a safe place t
 o stay and show them the importance of not falling for the lies addiction 
 tells us is true.\nLife Recovery 12 Steps every Monday at 5:30pm and Sunda
 y at 9am.
LAST-MODIFIED:20260422T213632
LOCATION:
SUMMARY:Overcomers
URL;VALUE=URI:https://cornerstonemcminnville.org/events/overcomers/2026-08-
 17
ATTACH;FILENAME=Overcomers Business Card (Presentation).png;FMTTYPE=image/p
 ng:https://dq5pwpg1q8ru0.cloudfront.net/2024/05/14/19/09/41/6d998d8f-aac4-
 479a-ae34-4fc448a93629/Overcomers%20Business%20Card%20(Presentation).png
END:VEVENT
END:VCALENDAR
